BEGIN:VCALENDAR
VERSION:2.0
PRODID:icalendar-ruby
CALSCALE:GREGORIAN
METHOD:PUBLISH
BEGIN:VEVENT
DTSTAMP:20260419T230116Z
UID:bigmarker_conference_8a9c2057cb4b@bigmarker.com
DTSTART:20251106T190000Z
DTEND:20251106T223000Z
DESCRIPTION:We look forward to having you join us for Box NYC Content + AI 
 Summit\n
LOCATION:New York Stock Exchange
ORGANIZER:events@box.com
STATUS:CONFIRMED
SUMMARY:Box Content + AI Summit New York City
X-MICROSOFT-CDO-APPT-SEQUENCE:1
X-MICROSOFT-CDO-BUSYSTATUS:BUSY
X-MICROSOFT-CDO-INTENDEDSTATUS:BUSY
X-MICROSOFT-CDO-ALLDAYEVENT:FALSE
X-MICROSOFT-CDO-IMPORTANCE:1
X-MICROSOFT-CDO-INSTTYPE:0
X-MS-OLK-FORCEINSPECTOROPEN:TRUE
END:VEVENT
END:VCALENDAR
